BEGIN:VCALENDAR
VERSION:2.0
PRODID:-//hacksw/handcal//NONSGML v1.0//EN
BEGIN:VEVENT
SUMMARY:Tournoi a Montbeliard M12
UID:7dc11886-b124-498b-ac1d-30ed0f16a660
DTSTART:20260327T230000Z
DTEND:20260328T230000Z
LOCATION:Localisation   
CATEGORIES:Sportif
STATUS:
DESCRIPTION:Tournoi a Montbeliard plus d'informations a venir sur le
 groupe whatsapp. 
URL;VALUE=URI:https://www.rcp25.org/evenements/2026/03/28/tournoi-a-montbeliard-m12-2430561
END:VEVENT
END:VCALENDAR
