BEGIN:VCALENDAR
VERSION:2.0
PRODID:-//hacksw/handcal//NONSGML v1.0//EN
BEGIN:VEVENT
SUMMARY:Tournoi Montbeliard M10
UID:307cf527-c7a4-4721-a4aa-42a95142d406
DTSTART:20260328T090000Z
DTEND:20260328T170000Z
LOCATION:Localisation   
CATEGORIES:Sportif
STATUS:
URL;VALUE=URI:https://www.rcp25.org/evenements/2026/03/28/tournoi-montbeliard-m10-2431065
END:VEVENT
END:VCALENDAR
