BEGIN:VCALENDAR
VERSION:2.0
PRODID:-//hacksw/handcal//NONSGML v1.0//EN
BEGIN:VEVENT
SUMMARY:Tournoi Tavaux M10
UID:3c15fdab-5e2d-46aa-8784-cdea71595cfd
DTSTART:20260418T060000Z
DTEND:20260418T150000Z
LOCATION:Localisation   
CATEGORIES:Sportif
STATUS:
URL;VALUE=URI:https://www.rcp25.org/evenements/2026/04/18/tournoi-tavaux-m10-2439659
END:VEVENT
END:VCALENDAR
