BEGIN:VCALENDAR
VERSION:2.0
PRODID:-//hacksw/handcal//NONSGML v1.0//EN
BEGIN:VEVENT
SUMMARY:Tournoi Tavaux M12
UID:fa7970d0-4f65-4271-b315-263862a47db5
DTSTART:20260418T060000Z
DTEND:20260418T160000Z
LOCATION:Localisation   
CATEGORIES:Sportif
STATUS:
DESCRIPTION:Tournoi a Tavaux depart a 8h, plus d'informations a
 venir. 
URL;VALUE=URI:https://www.rcp25.org/evenements/2026/04/18/tournoi-tavaux-m12-2439673
END:VEVENT
END:VCALENDAR
