BEGIN:VCALENDAR
VERSION:2.0
PRODID:-//hacksw/handcal//NONSGML v1.0//EN
BEGIN:VEVENT
SUMMARY:Tournoi Besancon M10
UID:a1de0f14-0409-465a-8654-925c8c561de6
DTSTART:20260425T100000Z
DTEND:20260425T145500Z
LOCATION:Localisation   
CATEGORIES:Sportif
STATUS:
URL;VALUE=URI:https://www.rcp25.org/evenements/2026/04/25/tournoi-besancon-m10-2442918
END:VEVENT
END:VCALENDAR
